BEGIN:VCALENDAR
VERSION:2.0
PRODID:-//Musikkapelle Oetz - ECPv6.9.1//NONSGML v1.0//EN
CALSCALE:GREGORIAN
METHOD:PUBLISH
X-WR-CALNAME:Musikkapelle Oetz
X-ORIGINAL-URL:https://www.mk-oetz.at
X-WR-CALDESC:Veranstaltungen für Musikkapelle Oetz
REFRESH-INTERVAL;VALUE=DURATION:PT1H
X-Robots-Tag:noindex
X-PUBLISHED-TTL:PT1H
BEGIN:VTIMEZONE
TZID:UTC
BEGIN:STANDARD
TZOFFSETFROM:+0000
TZOFFSETTO:+0000
TZNAME:UTC
DTSTART:20260101T000000
END:STANDARD
END:VTIMEZONE
BEGIN:VEVENT
DTSTART;TZID=UTC:20260716T200000
DTEND;TZID=UTC:20260716T200000
DTSTAMP:20260420T161134
CREATED:20260201T195228Z
LAST-MODIFIED:20260201T195713Z
UID:236127-1784232000-1784232000@www.mk-oetz.at
SUMMARY:Platzkonzert
DESCRIPTION:
URL:https://www.mk-oetz.at/event/platzkonzert-8/
LOCATION:Musikpavillon\, Schulplatz 1\, Oetz\, Tirol\, 6433\, Österreich
END:VEVENT
END:VCALENDAR